BEGIN:VCALENDAR
VERSION:2.0
PRODID:-//NBWA: America&#039;s Beer and Beverage Distributors - ECPv6.15.16//NONSGML v1.0//EN
CALSCALE:GREGORIAN
METHOD:PUBLISH
X-WR-CALNAME:NBWA: America&#039;s Beer and Beverage Distributors
X-ORIGINAL-URL:https://nbwa.org
X-WR-CALDESC:Events for NBWA: America&#039;s Beer and Beverage Distributors
REFRESH-INTERVAL;VALUE=DURATION:PT1H
X-Robots-Tag:noindex
X-PUBLISHED-TTL:PT1H
BEGIN:VTIMEZONE
TZID:UTC
BEGIN:STANDARD
TZOFFSETFROM:+0000
TZOFFSETTO:+0000
TZNAME:UTC
DTSTART:20220101T000000
END:STANDARD
END:VTIMEZONE
BEGIN:VEVENT
DTSTART;TZID=UTC:20230424T080000
DTEND;TZID=UTC:20230426T170000
DTSTAMP:20260423T000340
CREATED:20221129T001824Z
LAST-MODIFIED:20230216T233005Z
UID:10000003-1682323200-1682528400@nbwa.org
SUMMARY:2023 Legislative Conference
DESCRIPTION:For more information\, visit https://www.nbwa.org/events/legislative-conference
URL:https://nbwa.org/member-event/2023-legislative-conference/
END:VEVENT
BEGIN:VEVENT
DTSTART;TZID=UTC:20230426T120000
DTEND;TZID=UTC:20230426T170000
DTSTAMP:20260423T000340
CREATED:20230217T004202Z
LAST-MODIFIED:20230217T004457Z
UID:10000012-1682510400-1682528400@nbwa.org
SUMMARY:BREW Leadership Forum
DESCRIPTION:An additional event hosted by the Building Relationships and Empowering Women (BREW) initiative will be hosted on Wednesday\, April 26th. This event will inspire you to build relationships\, connect to others with authenticity and become a positive change agent in your organization. Attendees will have the opportunity to develop career strategies and learn new skillsets. As BREW embarks on our acting stronger phase\, attendees can embrace their power to be a domino to ignite progress in their organizations and the beer industry. Expect engaging speakers\, interactive programming\, and networking training. You will be an integral part of the learning process! To register\, click here. \nYou do not have to attend the Legislative Conference in order to attend the Leadership Forum. However\, space is limited for the event\, so make sure to register as soon as possible!
URL:https://nbwa.org/member-event/brew-leadership-forum/
ORGANIZER;CN="Building Relationships & Empowering Women (BREW) initiative":MAILTO:info@nbwa.org
END:VEVENT
END:VCALENDAR