BEGIN:VCALENDAR
VERSION:2.0
PRODID:-//NBWA: America&#039;s Beer and Beverage Distributors - ECPv6.15.16//NONSGML v1.0//EN
CALSCALE:GREGORIAN
METHOD:PUBLISH
X-ORIGINAL-URL:https://nbwa.org
X-WR-CALDESC:Events for NBWA: America&#039;s Beer and Beverage Distributors
REFRESH-INTERVAL;VALUE=DURATION:PT1H
X-Robots-Tag:noindex
X-PUBLISHED-TTL:PT1H
BEGIN:VTIMEZONE
TZID:UTC
BEGIN:STANDARD
TZOFFSETFROM:+0000
TZOFFSETTO:+0000
TZNAME:UTC
DTSTART:20220101T000000
END:STANDARD
END:VTIMEZONE
BEGIN:VEVENT
DTSTART;TZID=UTC:20230222T140000
DTEND;TZID=UTC:20230222T150000
DTSTAMP:20260423T034417
CREATED:20230124T004219Z
LAST-MODIFIED:20230124T004219Z
UID:10000011-1677074400-1677078000@nbwa.org
SUMMARY:Webinar: Relationship Building & Political Advocacy
DESCRIPTION:There are 75 new Representatives and seven new Senators serving in the 118th Congress. With so many new faces\, we must continue to educate Congress on the importance of the independent beer distribution system. Please join NBWA’s EVP of Government Affairs\, Laurie Knight\, and NBWA professional advocacy team members\, Brittanny Meierling and Kate Beaulieu\, for an upcoming webinar at 2 p.m. EST on February 22\, 2023 to learn more about the advocacy process\, how you can further develop your own advocacy skills and how to build early relationships with Capitol Hill. For those BREW members who are considering attending the 2023 NBWA Legislative Conference (April 23-26)\, this early-bird webinar will help make your experience on Capitol Hill a success. \nLaurie Knight\, EVP of Government Affairs\, NBWA\nKnight leads the association’s lobbying team\, directs the association’s federal advocacy efforts and plays a key role in advancing the association’s member-focused agenda on behalf of America’s 3\,000 independent beer distributors. \nBrittanny Meierling\, Senior Director of Federal Affairs\, NBWA\nMeierling is responsible for advancing the trade association’s legislative agenda. She works with both the U.S. House of Representatives and the U.S. Senate on a wide range of issues including transportation\, appropriations and commerce. \nKate Beaulieu\, Director of Federal Affairs\, NBWA\nBeaulieu is a registered lobbyist working to advance the trade association’s legislative agenda. She works with both the U.S. House of Representatives and the U.S. Senate on a range of issues with a focus on labor and tax issues. Beaulieu initiated NBWA’s warehouse visit program and works with both distributors and legislators to schedule congressional warehouse tours. \nClick here to register.
URL:https://nbwa.org/member-event/webinar-relationship-building-political-advocacy/
ORGANIZER;CN="Building Relationships & Empowering Women (BREW) initiative":MAILTO:info@nbwa.org
END:VEVENT
END:VCALENDAR