BEGIN:VCALENDAR
VERSION:2.0
PRODID:-//NBWA: America&#039;s Beer and Beverage Distributors - ECPv6.15.16//NONSGML v1.0//EN
CALSCALE:GREGORIAN
METHOD:PUBLISH
X-WR-CALNAME:NBWA: America&#039;s Beer and Beverage Distributors
X-ORIGINAL-URL:https://nbwa.org
X-WR-CALDESC:Events for NBWA: America&#039;s Beer and Beverage Distributors
REFRESH-INTERVAL;VALUE=DURATION:PT1H
X-Robots-Tag:noindex
X-PUBLISHED-TTL:PT1H
BEGIN:VTIMEZONE
TZID:UTC
BEGIN:STANDARD
TZOFFSETFROM:+0000
TZOFFSETTO:+0000
TZNAME:UTC
DTSTART:20210101T000000
END:STANDARD
END:VTIMEZONE
BEGIN:VEVENT
DTSTART;TZID=UTC:20221213T140000
DTEND;TZID=UTC:20221213T150000
DTSTAMP:20260423T051432
CREATED:20221130T191215Z
LAST-MODIFIED:20221130T191215Z
UID:10000005-1670940000-1670943600@nbwa.org
SUMMARY:Webinar: It’s all about BREW and You!
DESCRIPTION:Join the Building Relationships & Empowering Women (BREW) Advisory Board members in a conversation about plans for 2023. This is the year to “Act Stronger” as individuals\, companies\, and as an industry by engaging more people with leadership programing\, events\, webinars\, and educational opportunities at NBWA conferences. Learn how you can become more involved and about opportunities to work with our sub-committees including Best Practices\, Leadership Academy\, Communications and Marketing and more. To sign up for free\, click here.
URL:https://nbwa.org/member-event/webinar-its-all-about-brew-and-you/
END:VEVENT
END:VCALENDAR