BEGIN:VCALENDAR
VERSION:2.0
PRODID:-//NBWA: America&#039;s Beer and Beverage Distributors - ECPv6.15.16//NONSGML v1.0//EN
CALSCALE:GREGORIAN
METHOD:PUBLISH
X-WR-CALNAME:NBWA: America&#039;s Beer and Beverage Distributors
X-ORIGINAL-URL:https://nbwa.org
X-WR-CALDESC:Events for NBWA: America&#039;s Beer and Beverage Distributors
REFRESH-INTERVAL;VALUE=DURATION:PT1H
X-Robots-Tag:noindex
X-PUBLISHED-TTL:PT1H
BEGIN:VTIMEZONE
TZID:Asia/Karachi
BEGIN:STANDARD
TZOFFSETFROM:+0500
TZOFFSETTO:+0500
TZNAME:PKT
DTSTART:20240101T000000
END:STANDARD
END:VTIMEZONE
BEGIN:VTIMEZONE
TZID:UTC
BEGIN:STANDARD
TZOFFSETFROM:+0000
TZOFFSETTO:+0000
TZNAME:UTC
DTSTART:20240101T000000
END:STANDARD
END:VTIMEZONE
BEGIN:VTIMEZONE
TZID:America/New_York
BEGIN:DAYLIGHT
TZOFFSETFROM:-0500
TZOFFSETTO:-0400
TZNAME:EDT
DTSTART:20250309T070000
END:DAYLIGHT
BEGIN:STANDARD
TZOFFSETFROM:-0400
TZOFFSETTO:-0500
TZNAME:EST
DTSTART:20251102T060000
END:STANDARD
BEGIN:DAYLIGHT
TZOFFSETFROM:-0500
TZOFFSETTO:-0400
TZNAME:EDT
DTSTART:20260308T070000
END:DAYLIGHT
BEGIN:STANDARD
TZOFFSETFROM:-0400
TZOFFSETTO:-0500
TZNAME:EST
DTSTART:20261101T060000
END:STANDARD
BEGIN:DAYLIGHT
TZOFFSETFROM:-0500
TZOFFSETTO:-0400
TZNAME:EDT
DTSTART:20270314T070000
END:DAYLIGHT
BEGIN:STANDARD
TZOFFSETFROM:-0400
TZOFFSETTO:-0500
TZNAME:EST
DTSTART:20271107T060000
END:STANDARD
END:VTIMEZONE
BEGIN:VEVENT
DTSTART;TZID=Asia/Karachi:20251023T140000
DTEND;TZID=Asia/Karachi:20251025T150000
DTSTAMP:20260423T012347
CREATED:20251022T194150Z
LAST-MODIFIED:20251022T194304Z
UID:10000026-1761228000-1761404400@nbwa.org
SUMMARY:Q3 Beer Industry Update
DESCRIPTION:Thursday\, October 23 at 2 PM ET\nHow did the beer industry perform in Q3\, and what do these results reveal about trends for the rest of the year and looking ahead to 2026? \nJoin Lester Jones\, NBWA’s VP of Analytics and Chief Economist\, and Eric Kiser\, VP of Distributor Strategy at Fintech\, as they break down the highs and lows during the third quarter of 2025. \n\n\nRegister for Webinar\n\n\nThese industry experts will analyze the data to highlight key shifts in performance\, outlining the forces shaping sales and consumer trends as we approach year-end. \nThis latest live Beer Industry Update will cover: \n\nMacroeconomic consumer trends and the impact on beer social occasions\nHow the industry’s critical summer selling season performed\nData for on- and off-premises channels\, including top-performing brands
URL:https://nbwa.org/member-event/q3-beer-industry-update/
LOCATION:Online
END:VEVENT
BEGIN:VEVENT
DTSTART;VALUE=DATE:20251110
DTEND;VALUE=DATE:20251113
DTSTAMP:20260423T012347
CREATED:20230808T195919Z
LAST-MODIFIED:20250604T143202Z
UID:10000015-1762732800-1762991999@nbwa.org
SUMMARY:13th Annual Next Generation Conference
DESCRIPTION:November 10-12\, 2025 | Kansas City\, MO\nArm your rising talent and family leaders with tools to make an immediate impact by sending them to NBWA’s Next Generation Success in Leadership Conference\, this November 10-12 in Kansas City\, MO. \nThe only event designed specifically for emerging leaders in beer & beverage distribution is heading to the capital of BBQ. Why is Next Gen a must-attend for your company’s high performers? \n🧢 Attendees check brand hats at the door to help each other find solutions to everyday challenges \n🧑‍🎓 Our incisive and timely program challenges your team to imagine new ways to win in an evolving market \n🗣️ Next Gen leadership training is the real deal\, helping your team build tangible skills that pay immediate dividends. \n\n\nInvest in your company’s future while giving your team tools to WIN NOW — send them to Next Gen 2025.\nJoin the Action
URL:https://nbwa.org/member-event/13th-annual-next-gen-conference/
LOCATION:Loews Kansas City Hotel\, 1515 Wyandotte St.\, Kansas City\, MO\, 64108\, United States
END:VEVENT
BEGIN:VEVENT
DTSTART;TZID=America/New_York:20260419T080000
DTEND;TZID=America/New_York:20260422T170000
DTSTAMP:20260423T012347
CREATED:20250709T150346Z
LAST-MODIFIED:20250709T150346Z
UID:10000025-1776585600-1776877200@nbwa.org
SUMMARY:2026 Legislative Conference
DESCRIPTION:Save the date! The premier advocacy event for the beer and beverage distribution industry returns April 19-22\, 2026 to our nation’s capital. \nCut through the noise and bring your key issues directly to Capitol Hill through meetings with legislators and their staff on both sides of the aisle\, helping them understand how your business is essential to your community. \nDuring the conference programming\, you’ll learn the strategic skills you need to advocate for your business in legislator meetings\, local warehouse tours and beyond. Plus\, you will hear insider political analysis and gain a deeper understanding of how federal policies affect your business from our team of experts.
URL:https://nbwa.org/member-event/2026-legislative-conference/
LOCATION:Hyatt Regency Capitol Hill\, 400 New Jersey Ave NW\,\, Washington\, DC\, 20001\, United States
END:VEVENT
END:VCALENDAR