BEGIN:VCALENDAR
VERSION:2.0
PRODID:-//NBWA: America&#039;s Beer and Beverage Distributors - ECPv6.15.16//NONSGML v1.0//EN
CALSCALE:GREGORIAN
METHOD:PUBLISH
X-WR-CALNAME:NBWA: America&#039;s Beer and Beverage Distributors
X-ORIGINAL-URL:https://nbwa.org
X-WR-CALDESC:Events for NBWA: America&#039;s Beer and Beverage Distributors
REFRESH-INTERVAL;VALUE=DURATION:PT1H
X-Robots-Tag:noindex
X-PUBLISHED-TTL:PT1H
BEGIN:VTIMEZONE
TZID:UTC
BEGIN:STANDARD
TZOFFSETFROM:+0000
TZOFFSETTO:+0000
TZNAME:UTC
DTSTART:20210101T000000
END:STANDARD
END:VTIMEZONE
BEGIN:VEVENT
DTSTART;VALUE=DATE:20221205
DTEND;VALUE=DATE:20221206
DTSTAMP:20260419T103958
CREATED:20221130T192255Z
LAST-MODIFIED:20221203T010649Z
UID:10000006-1670198400-1670284799@nbwa.org
SUMMARY:89th Anniversary of the 21st Amendment
DESCRIPTION:
URL:https://nbwa.org/member-event/89th-anniversary-of-the-21st-amendment/
END:VEVENT
BEGIN:VEVENT
DTSTART;VALUE=DATE:20221009
DTEND;VALUE=DATE:20221013
DTSTAMP:20260419T103958
CREATED:20221025T161526Z
LAST-MODIFIED:20221129T002131Z
UID:10000002-1665273600-1665619199@nbwa.org
SUMMARY:2022 Annual Convention
DESCRIPTION:
URL:https://nbwa.org/member-event/2022-annual-convention/
END:VEVENT
END:VCALENDAR